BEGIN:VCALENDAR
VERSION:2.0
PRODID:-//hacksw/handcal//NONSGML v1.0//EN
BEGIN:VEVENT
DTSTAMP:20260905T000000Z
DTSTART:20260905T000000Z
DTEND:20260905T020000Z

SUMMARY:Grupo Frontera 
DESCRIPTION:Latin GRAMMY® winners and GRAMMY® nominees Grupo Frontera officially announce the U.S. dates for their “Triste Pero Bien C*brón Tour”. Presented by Live Nation, the tour represents a new step in the band’s trajectory following the release of their third studio album, “Lo Que Me Falta Por Llorar.”  Tickets will be available Friday, March 13 starting at 10:00 a.m
END:VEVENT
END:VCALENDAR