BEGIN:VCALENDAR
VERSION:2.0
PRODID:-//hacksw/handcal//NONSGML v1.0//EN
BEGIN:VEVENT
DTSTAMP:20260911T000000Z
DTSTART:20260911T000000Z
DTEND:20260911T020000Z

SUMMARY:Chayanne
DESCRIPTION:Chayanne, the iconic Puerto Rican singer, songwriter, and actor, is bringing his electrifying live show to EagleBank Arena in Fairfax, VA! With a career spanning more than four decades, Chayanne has released over 20 albums and sold millions of records worldwide, earning his place as one of the best-selling and most beloved artists in Latin music. Known for unforgettable hits like “Dejaría Todo,” “Un Siglo Sin Ti,” and “Salomé,” he has garnered major accolades, including MTV Video Music recognition, Billboard Latin Music Awards, and numerous international honors throughout his legendary career. Fans can look forward to an unforgettable night of high-energy performances and timeless favorites when Chayanne takes the stage in Fairfax.
END:VEVENT
END:VCALENDAR